BEGIN:VCALENDAR
VERSION:2.0
PRODID:-//BetaNYC - ECPv6.15.20//NONSGML v1.0//EN
CALSCALE:GREGORIAN
METHOD:PUBLISH
X-WR-CALNAME:BetaNYC
X-ORIGINAL-URL:https://www.beta.nyc
X-WR-CALDESC:Events for BetaNYC
REFRESH-INTERVAL;VALUE=DURATION:PT1H
X-Robots-Tag:noindex
X-PUBLISHED-TTL:PT1H
BEGIN:VTIMEZONE
TZID:America/New_York
BEGIN:DAYLIGHT
TZOFFSETFROM:-0500
TZOFFSETTO:-0400
TZNAME:EDT
DTSTART:20250309T070000
END:DAYLIGHT
BEGIN:STANDARD
TZOFFSETFROM:-0400
TZOFFSETTO:-0500
TZNAME:EST
DTSTART:20251102T060000
END:STANDARD
BEGIN:DAYLIGHT
TZOFFSETFROM:-0500
TZOFFSETTO:-0400
TZNAME:EDT
DTSTART:20260308T070000
END:DAYLIGHT
BEGIN:STANDARD
TZOFFSETFROM:-0400
TZOFFSETTO:-0500
TZNAME:EST
DTSTART:20261101T060000
END:STANDARD
BEGIN:DAYLIGHT
TZOFFSETFROM:-0500
TZOFFSETTO:-0400
TZNAME:EDT
DTSTART:20270314T070000
END:DAYLIGHT
BEGIN:STANDARD
TZOFFSETFROM:-0400
TZOFFSETTO:-0500
TZNAME:EST
DTSTART:20271107T060000
END:STANDARD
END:VTIMEZONE
BEGIN:VEVENT
DTSTART;TZID=America/New_York:20260501T110000
DTEND;TZID=America/New_York:20260501T180000
DTSTAMP:20260421T212259
CREATED:20260410T133033Z
LAST-MODIFIED:20260410T175144Z
UID:11841-1777633200-1777658400@www.beta.nyc
SUMMARY:Urban Data Science Showcase
DESCRIPTION:​The Center for Urban Science + Progress (CUSP) at New York University Tandon School of Engineering hosts the Urban Data Science Showcase\, highlighting the exceptional work of graduating students from the M.S. in Urban Data Science program and featuring BetaNYC’s Executive Director\, Noel Hidalgo\, as a Keynote Speaker \n\n\n\nAll events will take place at 370 Jay St\, Brooklyn\, NY 11201. Please refer to the NYU Brooklyn campus map for directions. \n\n\n\nSchedule \n\n\n\n​11:00 AM — Poster Showcase OpensLocation: 370 Jay St. Room 233 (Co-Lab)All guests are invited to enjoy refreshments and light bites while engaging with CUSP students in front of their poster displays.2:00 PM – 2:10 PM — Introductory RemarksLocation: 370 Jay St. Room 202Opening remarks from Dr. Anton Rozhkov\, Director of the M.S. in Urban Data Science Program at CUSP.2:10 – 3:00 PM — KeynoteLocation: 370 Jay St. Room 202Featuring Noel Hidalgo\, Executive Director at BetaNYC.3:00 PM – 3:30 PM — Presentation of Capstone AwardsCUSP Capstone Team and Dr. Anton Rozhkov will provide an overview of the 2025-2026 Capstone Projects and present awards to outstanding student teams.3:30 PM – 6:00 PM — Poster ShowcaseAll guests are invited to enjoy refreshments and light bites while engaging with CUSP students in front of their poster displays. A celebratory toast to the Class of 2026 students will take place at 5:00 PM.
URL:https://www.beta.nyc/event/e260501/
LOCATION:370 Jay Street\, 370 Jay St\, Brooklyn\, New York\, 11201\, United States
ATTACH;FMTTYPE=image/avif:https://www.beta.nyc/wp-content/uploads/362a6bba-1069-4abf-8d46-8cab47e02180.avif
END:VEVENT
BEGIN:VEVENT
DTSTART;TZID=America/New_York:20260508T143000
DTEND;TZID=America/New_York:20260508T160000
DTSTAMP:20260421T212259
CREATED:20260417T142624Z
LAST-MODIFIED:20260417T142630Z
UID:11935-1778250600-1778256000@www.beta.nyc
SUMMARY:BetaNYC '25-'26 Civic Innovation Fellows' Celebration & Showcase
DESCRIPTION:Join us at the BetaNYC Civic Innovation Fellows’ Celebration and Showcase. \n\n\n\nWe are thrilled to celebrate our twelfth cohort of fellows as they complete their journey! This showcase is a chance to hear their reflections firsthand\, see the impact of their work\, and honor their growth as the next generation of public interest technologists. \n\n\n\nCome for an afternoon of storytelling\, community\, and celebration! Lunch will be served. \n\n\n\nRun-of-Show: \n\n\n\n\n2:30 PM – Lunch & Refreshments\n\n\n\n3:00 PM – Opening Remarks\n\n\n\n3:10 PM – Fellows’ Showcase\n\n\n\n3:35 PM – Certification Ceremony\n\n\n\n3:45 PM – Closing Remarks\n\n\n\n\nIf you would like to attend\, please reach out to cif@beta.nyc before Thursday\, May 7. \n\n\n\nAdditional pathfinding and building access details will be sent to registered guests. If you have any specific needs or accommodation requests\, please also reach out to us at cif@beta.nyc.
URL:https://www.beta.nyc/event/betanyc-25-26-civic-innovation-fellows-celebration-showcase/
LOCATION:The David N. Dinkins Municipal Building\, 19th Floor | 1 Centre St\, New York\, NY 10007\, 1 Centre St\, New York\, New York\, 10007\, United States
CATEGORIES:Cohort Showcase
ATTACH;FMTTYPE=image/jpeg:https://www.beta.nyc/wp-content/uploads/FOR-WEBSITE-Fellows-Celebration-Showcase-Flyer-Template.jpg
END:VEVENT
BEGIN:VEVENT
DTSTART;TZID=America/New_York:20260511T180000
DTEND;TZID=America/New_York:20260511T193000
DTSTAMP:20260421T212259
CREATED:20260128T201416Z
LAST-MODIFIED:20260128T201418Z
UID:11405-1778522400-1778527800@www.beta.nyc
SUMMARY:Discovering NYC Open Data: Online Session: May 2026
DESCRIPTION:Did you know there is free data about nearly every aspect of our city? Come learn how to use it with the NYC Open Data Ambassadors! Join us for an online workshop where you’ll learn the fundamentals of using NYC Open Data. \n\n\n\n** This training is FREE and OPEN to the public ** \n\n\n\nYou will gain an understanding of: \n\n\n\n\nWhat NYC Open Data is!\n\n\n\nHow to find specific datasets\n\n\n\nHow to filter a dataset\n\n\n\nHow to visualize data in charts and graphs\n\n\n\nTools and Applications of Open Data\n\n\n\nHow to stay involved\n\n\n\n\nWho should attend? \n\n\n\n\nAnyone! No experience necessary.\n\n\n\nEducators & Students\n\n\n\nLibrarians & Non-Profit Professionals\n\n\n\nLocal Organizers & Decision-Makers\n\n\n\nCity Planners and Mappers\n\n\n\n\nThe Open Data Ambassadors program is a collaboration between NYC Office of Technology and Innovation’s Open Data Team and BetaNYC. Visit nyc.gov/discoveropendata to learn more!
URL:https://www.beta.nyc/event/e260511/
LOCATION:Virtual\, New York City\, NY\, United States
CATEGORIES:Class or Training
ATTACH;FMTTYPE=image/png:https://www.beta.nyc/wp-content/uploads/April-16-2025-INsta.-1.png
END:VEVENT
BEGIN:VEVENT
DTSTART;TZID=America/New_York:20260610T180000
DTEND;TZID=America/New_York:20260610T193000
DTSTAMP:20260421T212259
CREATED:20260128T202319Z
LAST-MODIFIED:20260128T202321Z
UID:11407-1781114400-1781119800@www.beta.nyc
SUMMARY:Discovering NYC Open Data: Online Session: June 2026
DESCRIPTION:Did you know there is free data about nearly every aspect of our city? Come learn how to use it with the NYC Open Data Ambassadors! Join us for an online workshop where you’ll learn the fundamentals of using NYC Open Data. \n\n\n\n** This training is FREE and OPEN to the public ** \n\n\n\nYou will gain an understanding of: \n\n\n\n\nWhat NYC Open Data is!\n\n\n\nHow to find specific datasets\n\n\n\nHow to filter a dataset\n\n\n\nHow to visualize data in charts and graphs\n\n\n\nTools and Applications of Open Data\n\n\n\nHow to stay involved\n\n\n\n\nWho should attend? \n\n\n\n\nAnyone! No experience necessary.\n\n\n\nEducators & Students\n\n\n\nLibrarians & Non-Profit Professionals\n\n\n\nLocal Organizers & Decision-Makers\n\n\n\nCity Planners and Mappers\n\n\n\n\nThe Open Data Ambassadors program is a collaboration between NYC Office of Technology and Innovation’s Open Data Team and BetaNYC. Visit nyc.gov/discoveropendata to learn more!
URL:https://www.beta.nyc/event/e260610/
LOCATION:Virtual\, New York City\, NY\, United States
CATEGORIES:Class or Training
ATTACH;FMTTYPE=image/png:https://www.beta.nyc/wp-content/uploads/April-16-2025-INsta.-1.png
END:VEVENT
END:VCALENDAR